BEGIN:VCALENDAR
METHOD:PUBLISH
PRODID:-//www.ballcharts.com/yaucocafeteros//NONSGML iCalcreator 2.0//
VERSION:2.0
BEGIN:VEVENT
DTEND:20100219T220000
DTSTAMP:20100115T183840Z
DTSTART:20100219T200000
LOCATION:Parque Luis 'Tite' Arroyo
SUMMARY:Yauco @ Peñuelas
UID:20100115T103840PST-WJiUrFPK7S@www.ballcharts.com/yaucocafeteros
END:VEVENT
BEGIN:VEVENT
DTEND:20100220T220000
DTSTAMP:20100115T183840Z
DTSTART:20100220T200000
LOCATION:Parque Ovidio Millino Rodríguez
SUMMARY:Hormigueros @ Yauco
UID:20100115T103840PST-Ou9jumuwEf@www.ballcharts.com/yaucocafeteros
END:VEVENT
END:VCALENDAR
