BEGIN:VCALENDAR
METHOD:PUBLISH
PRODID:-//www.ballcharts.com/thunderfootball//NONSGML iCalcreator 2.0//
VERSION:2.0
BEGIN:VEVENT
DESCRIPTION:Pratice/ Team Fee's Due Amt $ 40
DTEND:20080923T210100
DTSTAMP:20100108T184514Z
DTSTART:20080923T190100
LOCATION:Mort Park NFL YET Center
UID:20100108T104514PST-fLsSevXteH@www.ballcharts.com/thunderfootball
END:VEVENT
BEGIN:VEVENT
DESCRIPTION:10am - 12pm Tryouts/ Pratice Oct Fee's Due
DTEND:20080928T000100
DTSTAMP:20100108T184514Z
DTSTART:20080927T220100
LOCATION:USF
UID:20100108T104514PST-2xRu1fe7vb@www.ballcharts.com/thunderfootball
END:VEVENT
BEGIN:VEVENT
DESCRIPTION:7pm - 9pm Training Camp
DTEND:20081002T210100
DTSTAMP:20100108T184514Z
DTSTART:20081002T190100
LOCATION:Mort Park NFL YET Center
UID:20100108T104514PST-Ud0S1gS8Cn@www.ballcharts.com/thunderfootball
END:VEVENT
BEGIN:VEVENT
DESCRIPTION:9am - 12pm Training Camp
DTEND:20081004T110100
DTSTAMP:20100108T184514Z
DTSTART:20081004T090100
LOCATION:USF
UID:20100108T104514PST-GoUEvWK4pV@www.ballcharts.com/thunderfootball
END:VEVENT
BEGIN:VEVENT
DESCRIPTION:7pm - 9pm Training Camp
DTEND:20081007T210100
DTSTAMP:20100108T184514Z
DTSTART:20081007T190100
LOCATION:Mort Park NFL YET Center
UID:20100108T104514PST-uzn4VJRvdo@www.ballcharts.com/thunderfootball
END:VEVENT
BEGIN:VEVENT
DESCRIPTION:9am - 12pm Training Camp
DTEND:20081011T110100
DTSTAMP:20100108T184514Z
DTSTART:20081011T090100
LOCATION:USF
UID:20100108T104514PST-NkuEln0ExS@www.ballcharts.com/thunderfootball
END:VEVENT
BEGIN:VEVENT
DESCRIPTION:7pm - 9pm Training Camp
DTEND:20081014T210100
DTSTAMP:20100108T184514Z
DTSTART:20081014T190100
LOCATION:Temple Crest Park
UID:20100108T104514PST-6sVLRfhHog@www.ballcharts.com/thunderfootball
END:VEVENT
BEGIN:VEVENT
DESCRIPTION:Training Camp
DTEND:20081016T210000
DTSTAMP:20100108T184514Z
DTSTART:20081016T190000
LOCATION:Temple Crest Park
UID:20100108T104514PST-zuUG8HuzSv@www.ballcharts.com/thunderfootball
END:VEVENT
BEGIN:VEVENT
DESCRIPTION:9:30-12pm Training Camp
DTEND:20081018T210100
DTSTAMP:20100108T184514Z
DTSTART:20081018T190100
LOCATION:Temple Crest Park
UID:20100108T104514PST-DNU4BVrnLu@www.ballcharts.com/thunderfootball
END:VEVENT
BEGIN:VEVENT
DESCRIPTION:7pm - 9pm Training Camp
DTEND:20081021T210100
DTSTAMP:20100108T184514Z
DTSTART:20081021T190100
LOCATION:Temple Crest Park
UID:20100108T104514PST-c6Uu1kWdCe@www.ballcharts.com/thunderfootball
END:VEVENT
BEGIN:VEVENT
DESCRIPTION:7pm - 9pm Training Camp
DTEND:20081023T210100
DTSTAMP:20100108T184514Z
DTSTART:20081023T190100
LOCATION:Temple Crest Park
UID:20100108T104514PST-sUKtN1L2H0@www.ballcharts.com/thunderfootball
END:VEVENT
BEGIN:VEVENT
DESCRIPTION:Training Camp
DTEND:20081025T113000
DTSTAMP:20100108T184514Z
DTSTART:20081025T093000
LOCATION:Temple Crest Park
UID:20100108T104514PST-76xrMSGZ6C@www.ballcharts.com/thunderfootball
END:VEVENT
BEGIN:VEVENT
DESCRIPTION:7pm - 9pm Training Camp
DTEND:20081028T210100
DTSTAMP:20100108T184514Z
DTSTART:20081028T190100
LOCATION:Temple Crest Park
UID:20100108T104514PST-GXVd52DR8m@www.ballcharts.com/thunderfootball
END:VEVENT
BEGIN:VEVENT
DESCRIPTION:7pm - 9pm Training Camp
DTEND:20081030T210100
DTSTAMP:20100108T184514Z
DTSTART:20081030T190100
LOCATION:Temple Crest Park
UID:20100108T104514PST-HwKt4Housa@www.ballcharts.com/thunderfootball
END:VEVENT
BEGIN:VEVENT
DESCRIPTION:12pm til- Bay Area Sports Management Cookout
DTEND:20081101T140100
DTSTAMP:20100108T184514Z
DTSTART:20081101T120100
LOCATION:Rowlett Park
UID:20100108T104514PST-sWvHD7eRbp@www.ballcharts.com/thunderfootball
END:VEVENT
BEGIN:VEVENT
DESCRIPTION:Team Fees Due All Players
DTEND:20081101T140100
DTSTAMP:20100108T184514Z
DTSTART:20081101T120100
LOCATION
UID:20100108T104514PST-3tnDIlBzBF@www.ballcharts.com/thunderfootball
END:VEVENT
BEGIN:VEVENT
DESCRIPTION:7pm - 9pm Practice/Helmets
DTEND:20081104T210100
DTSTAMP:20100108T184514Z
DTSTART:20081104T190100
LOCATION:Temple Crest Park
UID:20100108T104514PST-jA4l24vX01@www.ballcharts.com/thunderfootball
END:VEVENT
BEGIN:VEVENT
DESCRIPTION:7pm - 9pm Practice/Helmets
DTEND:20081106T020100
DTSTAMP:20100108T184514Z
DTSTART:20081106T000100
LOCATION:Temple Crest Park
UID:20100108T104514PST-9xmp3LudSh@www.ballcharts.com/thunderfootball
END:VEVENT
BEGIN:VEVENT
DESCRIPTION:7pm - 9pm Practice/Full Pads
DTEND:20081111T020100
DTSTAMP:20100108T184514Z
DTSTART:20081111T000100
LOCATION:Temple Crest Park
UID:20100108T104514PST-xEbnVTG07V@www.ballcharts.com/thunderfootball
END:VEVENT
BEGIN:VEVENT
DESCRIPTION:7pm - 9pm Practice/Full Pads
DTEND:20081113T020100
DTSTAMP:20100108T184514Z
DTSTART:20081113T000100
LOCATION:Temple Crest Park
UID:20100108T104514PST-bENOEUVUWw@www.ballcharts.com/thunderfootball
END:VEVENT
BEGIN:VEVENT
DESCRIPTION:7pm - 9pm Practice/Full Pads
DTEND:20081118T020100
DTSTAMP:20100108T184514Z
DTSTART:20081118T000100
LOCATION:Temple Crest Park
UID:20100108T104514PST-UAAi2XMkop@www.ballcharts.com/thunderfootball
END:VEVENT
BEGIN:VEVENT
DESCRIPTION:7pm - 9pm Practice/Full Pads
DTEND:20081120T020100
DTSTAMP:20100108T184514Z
DTSTART:20081120T000100
LOCATION:Temple Crest Park
UID:20100108T104514PST-dc43NTfWrT@www.ballcharts.com/thunderfootball
END:VEVENT
BEGIN:VEVENT
DESCRIPTION:9:30am- 12pm Team Practice/Full Pads
DTEND:20081122T020100
DTSTAMP:20100108T184514Z
DTSTART:20081122T000100
LOCATION:Temple Crest Park
UID:20100108T104514PST-9i0AWzOTbX@www.ballcharts.com/thunderfootball
END:VEVENT
BEGIN:VEVENT
DESCRIPTION:9:30am- 12pm Team Practice/Full Pads
DTEND:20081129T020100
DTSTAMP:20100108T184514Z
DTSTART:20081129T000100
LOCATION:Temple Crest Park
UID:20100108T104514PST-4vdMlizvRi@www.ballcharts.com/thunderfootball
END:VEVENT
BEGIN:VEVENT
DESCRIPTION:game time
DTEND:20081220T150000
DTSTAMP:20100108T184514Z
DTSTART:20081220T130000
LOCATION:tampa\,fl
UID:20100108T104514PST-MCLdvCs7Hj@www.ballcharts.com/thunderfootball
END:VEVENT
BEGIN:VEVENT
DESCRIPTION:1st payment for Player Fee is Due $70
DTEND:20090610T020100
DTSTAMP:20100108T184514Z
DTSTART:20090610T000100
LOCATION
UID:20100108T104514PST-Fezp3Iud5c@www.ballcharts.com/thunderfootball
END:VEVENT
BEGIN:VEVENT
DESCRIPTION:Player Fee Late/ late added
DTEND:20090611T020100
DTSTAMP:20100108T184514Z
DTSTART:20090611T000100
LOCATION
UID:20100108T104514PST-37XfJmnUAG@www.ballcharts.com/thunderfootball
END:VEVENT
BEGIN:VEVENT
DESCRIPTION:OTA Workouts
DTEND:20090620T130000
DTSTAMP:20100108T184514Z
DTSTART:20090620T110000
LOCATION:Al Lopez Park
UID:20100108T104514PST-UsGvDZDxXi@www.ballcharts.com/thunderfootball
END:VEVENT
BEGIN:VEVENT
DESCRIPTION:OTA Workout
DTEND:20090627T130000
DTSTAMP:20100108T184514Z
DTSTART:20090627T110000
LOCATION:Al Lopez Park
UID:20100108T104514PST-ftdFEds734@www.ballcharts.com/thunderfootball
END:VEVENT
BEGIN:VEVENT
DESCRIPTION:Off-Season Mini-Camp ( All Players Must Be at Camp)
DTEND:20090711T120000
DTSTAMP:20100108T184514Z
DTSTART:20090711T100000
LOCATION:Tampa\,FL
UID:20100108T104514PST-ahPnNEwxJS@www.ballcharts.com/thunderfootball
END:VEVENT
BEGIN:VEVENT
DESCRIPTION:Thunder Blast 2009
DTEND:20090801T120000
DTSTAMP:20100108T184514Z
DTSTART:20090801T100000
LOCATION:Tampa Al Lopez Park
UID:20100108T104514PST-WjSHXT39I8@www.ballcharts.com/thunderfootball
END:VEVENT
BEGIN:VEVENT
DTEND:20100213T210000
DTSTAMP:20100108T184514Z
DTSTART:20100213T190000
LOCATION:Tampa<FL
SUMMARY:Crusaders @ Thunder
UID:20100108T104514PST-0jSvjtKC1O@www.ballcharts.com/thunderfootball
END:VEVENT
BEGIN:VEVENT
DTEND:20100220T210000
DTSTAMP:20100108T184514Z
DTSTART:20100220T190000
LOCATION:Ft.Lauderdale
SUMMARY:Thunder @ Jaguars
UID:20100108T104514PST-5uH5jN6LAp@www.ballcharts.com/thunderfootball
END:VEVENT
BEGIN:VEVENT
DTEND:20100227T210000
DTSTAMP:20100108T184514Z
DTSTART:20100227T190000
LOCATION:Tampa\,FL
SUMMARY:Panthers @ Thunder
UID:20100108T104514PST-F6KNvar3JT@www.ballcharts.com/thunderfootball
END:VEVENT
BEGIN:VEVENT
DTEND:20100306T210000
DTSTAMP:20100108T184514Z
DTSTART:20100306T190000
LOCATION:Gainesville
SUMMARY:Thunder @ T-Breds
UID:20100108T104514PST-jiK9TcHcLm@www.ballcharts.com/thunderfootball
END:VEVENT
BEGIN:VEVENT
DTEND:20100313T210000
DTSTAMP:20100108T184514Z
DTSTART:20100313T190000
LOCATION:Tampa\,FL
SUMMARY:Thunder @ Bulldogs
UID:20100108T104514PST-wt98uUArcN@www.ballcharts.com/thunderfootball
END:VEVENT
BEGIN:VEVENT
DTEND:20100320T210000
DTSTAMP:20100108T184514Z
DTSTART:20100320T190000
LOCATION:Orlando
SUMMARY:Thunder @ Crusaders
UID:20100108T104514PST-p0VR6ZOCcf@www.ballcharts.com/thunderfootball
END:VEVENT
BEGIN:VEVENT
DTEND:20100327T210000
DTSTAMP:20100108T184514Z
DTSTART:20100327T190000
LOCATION:Tampa\,FL
SUMMARY:Lions @ Thunder
UID:20100108T104514PST-VauXweadn9@www.ballcharts.com/thunderfootball
END:VEVENT
BEGIN:VEVENT
DTEND:20100410T210000
DTSTAMP:20100108T184514Z
DTSTART:20100410T190000
LOCATION:Panama City
SUMMARY:Thunder @ Panthers
UID:20100108T104514PST-i8TIVZU4LD@www.ballcharts.com/thunderfootball
END:VEVENT
BEGIN:VEVENT
DTEND:20100417T210000
DTSTAMP:20100108T184514Z
DTSTART:20100417T190000
LOCATION:Tampa\,FL
SUMMARY:T-Breds @ Thunder
UID:20100108T104514PST-DU6SNDi2s2@www.ballcharts.com/thunderfootball
END:VEVENT
BEGIN:VEVENT
DTEND:20100424T210000
DTSTAMP:20100108T184514Z
DTSTART:20100424T190000
LOCATION:Tampa\,FL
SUMMARY:Bulldogs @ Thunder
UID:20100108T104514PST-E467TG6IV0@www.ballcharts.com/thunderfootball
END:VEVENT
END:VCALENDAR
