BEGIN:VCALENDAR
METHOD:PUBLISH
PRODID:-//ballcharts.com/MarlinsFelicia//NONSGML iCalcreator 2.6//
VERSION:2.0
X-WR-TIMEZONE:US/Eastern
X-WR-CALNAME:Marlins de Felicia
BEGIN:VEVENT
UID:20130525T232340CEST-8173uzRu4k@ballcharts.com/MarlinsFelicia
DTSTAMP:20130525T212340Z
DTSTART:20130317T090000
DTEND:20130317T110000
LOCATION:Felicia (Santa Isabel)
SUMMARY:Piratas Cuyon (Coamo) 2 @ Marlins Felicia (Santa Isabel) 6
END:VEVENT
BEGIN:VEVENT
UID:20130525T232340CEST-8178Jvn9tb@ballcharts.com/MarlinsFelicia
DTSTAMP:20130525T212340Z
DTSTART:20130317T130000
DTEND:20130317T150000
LOCATION:Felicia (Santa Isabel)
SUMMARY:Marlins Felicia (Santa Isabel) 1 @ Piratas Cuyon (Coamo) 0
END:VEVENT
BEGIN:VEVENT
UID:20130525T232340CEST-8182JewJUJ@ballcharts.com/MarlinsFelicia
DTSTAMP:20130525T212340Z
DTSTART:20130324T090000
DTEND:20130324T110000
LOCATION:Peñuelas (Santa Isabel)
SUMMARY:Marlins Felicia (Santa Isabel) 5 @ Cardenales Peñuelas (Santa Isabe
 l) 2
END:VEVENT
BEGIN:VEVENT
UID:20130525T232340CEST-8187ulDMJU@ballcharts.com/MarlinsFelicia
DTSTAMP:20130525T212340Z
DTSTART:20130324T130000
DTEND:20130324T150000
LOCATION:Peñuelas (Santa Isabel)
SUMMARY:Cadenales Peñuelas (Santa Isabel) 0 @ Marlins Felicia (Santa Isabel
 ) 15
END:VEVENT
BEGIN:VEVENT
UID:20130525T232340CEST-8191lFAcFD@ballcharts.com/MarlinsFelicia
DTSTAMP:20130525T212340Z
DTSTART:20130331T090000
DTEND:20130331T110000
LOCATION:Felicia (Santa Isabel)
SUMMARY:Potros Salvajes Paso Seco (Santa Isabel) 6 @ Marlins Felicia (Santa
  Isabel) 5
END:VEVENT
BEGIN:VEVENT
UID:20130525T232340CEST-81962tEHh3@ballcharts.com/MarlinsFelicia
DTSTAMP:20130525T212340Z
DTSTART:20130331T130000
DTEND:20130331T150000
LOCATION:Felicia (Santa Isabel)
SUMMARY:Potros Salvajes Paso Seco (Santa Isabel) 3 @ Marlins Felicia (Santa
  Isabel) 2
END:VEVENT
BEGIN:VEVENT
UID:20130525T232340CEST-8200w0Xsj2@ballcharts.com/MarlinsFelicia
DTSTAMP:20130525T212340Z
DTSTART:20130407T090000
DTEND:20130407T110000
LOCATION:Lomas (Juana Diaz)
SUMMARY:Marlins Felicia (Santa Isabel) 4 @ Lomas (Juana Diaz) 3
END:VEVENT
BEGIN:VEVENT
UID:20130525T232340CEST-8205At2IDp@ballcharts.com/MarlinsFelicia
DTSTAMP:20130525T212340Z
DTSTART:20130407T130000
DTEND:20130407T150000
LOCATION:Lomas (Juana Diaz)
SUMMARY:Marlins Felicia (Santa Isabel) 5 @ Lomas (Juana Diaz) 6
END:VEVENT
BEGIN:VEVENT
UID:20130525T232340CEST-8209ZfWeLu@ballcharts.com/MarlinsFelicia
DTSTAMP:20130525T212340Z
DTSTART:20130414T090000
DTEND:20130414T110000
LOCATION:Ensenada (Guanica)
SUMMARY:Marlins Felicia (Santa Isabel) 7 @ Ensenada (Guanica) 1
END:VEVENT
BEGIN:VEVENT
UID:20130525T232340CEST-8214I2eEGZ@ballcharts.com/MarlinsFelicia
DTSTAMP:20130525T212340Z
DTSTART:20130414T130000
DTEND:20130414T150000
LOCATION:Ensenada (Guanica)
SUMMARY:Marlins Felicia (Santa Isabel) 13 @ Ensenada (Guanica) 2
END:VEVENT
BEGIN:VEVENT
UID:20130525T232340CEST-8218g2dm9p@ballcharts.com/MarlinsFelicia
DTSTAMP:20130525T212340Z
DTSTART:20130421T090000
DTEND:20130421T110000
LOCATION:Felicia (Santa Isabel)
SUMMARY:Collores (Juana Diaz) 0 @ Marlins Felicia (Santa Isabel) 8
END:VEVENT
BEGIN:VEVENT
UID:20130525T232340CEST-8223tjVDd8@ballcharts.com/MarlinsFelicia
DTSTAMP:20130525T212340Z
DTSTART:20130421T130000
DTEND:20130421T150000
LOCATION:Felicia (Santa Isabel)
SUMMARY:Collores (Juana Diaz) 1 @ Marlins Felicia (Santa Isabel) 4
END:VEVENT
BEGIN:VEVENT
UID:20130525T232340CEST-8227Xn1uvT@ballcharts.com/MarlinsFelicia
DTSTAMP:20130525T212340Z
DTSTART:20130428T090000
DTEND:20130428T110000
LOCATION:Ollas (Santa Isabel)
SUMMARY:Marlins Felicia (Santa Isabel) 9 @ Ollas (Santa Isabel) 8
END:VEVENT
BEGIN:VEVENT
UID:20130525T232340CEST-8232URdCcG@ballcharts.com/MarlinsFelicia
DTSTAMP:20130525T212340Z
DTSTART:20130428T130000
DTEND:20130428T150000
LOCATION:Ollas (Santa Isabel)
SUMMARY:Marlins Felicia (Santa Isabel) 2 @ Ollas (Santa Isabel) 5
END:VEVENT
BEGIN:VEVENT
UID:20130525T232340CEST-8236SCUuB6@ballcharts.com/MarlinsFelicia
DTSTAMP:20130525T212340Z
DTSTART:20130505T090000
DTEND:20130505T110000
LOCATION:Paso Seco (Santa Isabel)
SUMMARY:Marlins Felicia (Santa Isabel) 5 @ Potros Salvajes Paso Seco (Santa
  Isabel) 4
END:VEVENT
BEGIN:VEVENT
UID:20130525T232340CEST-8241ORWXOB@ballcharts.com/MarlinsFelicia
DTSTAMP:20130525T212340Z
DTSTART:20130505T130000
DTEND:20130505T150000
LOCATION:Paso Seco (Santa Isabel)
SUMMARY:Marlins Felicia (Santa Isabel) 16 @ Potros Salvajes Paso Seco (Sant
 a Isabel) 17
END:VEVENT
BEGIN:VEVENT
UID:20130525T232340CEST-8245hdhZfU@ballcharts.com/MarlinsFelicia
DTSTAMP:20130525T212340Z
DTSTART:20130519T090000
DTEND:20130519T110000
LOCATION:Felicia (Santa Isabel)
SUMMARY:Lomas (Juana Diaz) 4 @ Marlins Felicia (Santa Isabel) 2
END:VEVENT
BEGIN:VEVENT
UID:20130525T232340CEST-8250TueDXs@ballcharts.com/MarlinsFelicia
DTSTAMP:20130525T212340Z
DTSTART:20130519T130000
DTEND:20130519T150000
LOCATION:Felicia (Santa Isabel)
SUMMARY:Lomas (Juana Diaz) 10 @ Marlins Felicia (Santa Isabel) 4
END:VEVENT
BEGIN:VEVENT
UID:20130525T232340CEST-8254b4kv6u@ballcharts.com/MarlinsFelicia
DTSTAMP:20130525T212340Z
DTSTART:20130526T090000
DTEND:20130526T110000
LOCATION:Felicia (Santa Isabel)
SUMMARY:Ensenada (Guanica) @ Marlins Felicia (Santa Isabel)
END:VEVENT
BEGIN:VEVENT
UID:20130525T232340CEST-8259de8T4u@ballcharts.com/MarlinsFelicia
DTSTAMP:20130525T212340Z
DTSTART:20130526T130000
DTEND:20130526T150000
LOCATION:Felicia (Santa Isabel)
SUMMARY:Ensenada (Guanica) @ Marlins Felicia (Santa Isabel)
END:VEVENT
END:VCALENDAR
