BEGIN:VCALENDAR
METHOD:PUBLISH
PRODID:-//www.ballcharts.com/gojayhawks//NONSGML iCalcreator 2.6//
VERSION:2.0
X-WR-TIMEZONE:US/Pacific
BEGIN:VEVENT
UID:20120717T210828CEST-2748zhuV4U@www.ballcharts.com/gojayhawks
DTSTAMP:20120717T190828Z
DTSTART:20120531T173000
DTEND:20120531T193000
LOCATION:Fort Vancouver High School
SUMMARY:Granite 7 @ Jayhawks 16
END:VEVENT
BEGIN:VEVENT
UID:20120717T210828CEST-2754MzH39X@www.ballcharts.com/gojayhawks
DTSTAMP:20120717T190828Z
DTSTART:20120601T110000
DTEND:20120601T130000
LOCATION:Hoquiam Tournament
SUMMARY:Portland Bears 1 @ Jayhawks 10
END:VEVENT
BEGIN:VEVENT
UID:20120717T210828CEST-2759VJFkP6@www.ballcharts.com/gojayhawks
DTSTAMP:20120717T190828Z
DTSTART:20120602T190000
DTEND:20120602T210000
LOCATION:Hoquiam Tournament
SUMMARY:Jayhawks 5 @ Federal Way Tigers 3
END:VEVENT
BEGIN:VEVENT
UID:20120717T210828CEST-2764uaxp45@www.ballcharts.com/gojayhawks
DTSTAMP:20120717T190828Z
DTSTART:20120603T090000
DTEND:20120603T110000
LOCATION:Hoquiam Tournament (Quarterfinals)
SUMMARY:Raymond Big Als 3 @ Jayhawks 8
END:VEVENT
BEGIN:VEVENT
UID:20120717T210828CEST-2770MzLNsV@www.ballcharts.com/gojayhawks
DTSTAMP:20120717T190828Z
DTSTART:20120603T120000
DTEND:20120603T140000
LOCATION:Hoquiam Tournament (Semi-Finals)
SUMMARY:Camas Granite 3 @ Jayhawks 11
END:VEVENT
BEGIN:VEVENT
UID:20120717T210828CEST-2775zCp17k@www.ballcharts.com/gojayhawks
DTSTAMP:20120717T190828Z
DTSTART:20120603T190000
DTEND:20120603T210000
LOCATION:Hoquiam Tournament (Championship Game)
SUMMARY:Hoquiam 8 @ Jayhawks 3
END:VEVENT
BEGIN:VEVENT
UID:20120717T210828CEST-2780iiOzmp@www.ballcharts.com/gojayhawks
DTSTAMP:20120717T190828Z
DTSTART:20120610T130000
DTEND:20120610T150000
LOCATION:Fort Vancouver High School
SUMMARY:Prairie 2 @ Jayhawks 12
END:VEVENT
BEGIN:VEVENT
UID:20120717T210828CEST-2785LkIkvV@www.ballcharts.com/gojayhawks
DTSTAMP:20120717T190828Z
DTSTART:20120610T160000
DTEND:20120610T180000
LOCATION:Fort Vancouver High School
SUMMARY:Prairie 1 @ Jayhawks 2
END:VEVENT
BEGIN:VEVENT
UID:20120717T210828CEST-2790DAGeJi@www.ballcharts.com/gojayhawks
DTSTAMP:20120717T190828Z
DTSTART:20120612T173000
DTEND:20120612T193000
LOCATION:Fort Vancouver High School
SUMMARY:Aqua Sox 1 @ Jayhawks 15
END:VEVENT
BEGIN:VEVENT
UID:20120717T210828CEST-279570w0oP@www.ballcharts.com/gojayhawks
DTSTAMP:20120717T190828Z
DTSTART:20120614T173000
DTEND:20120614T193000
LOCATION:Fort Vancouver High School
SUMMARY:Redbirds 3 @ Jayhawks 11
END:VEVENT
BEGIN:VEVENT
UID:20120717T210828CEST-280194kDvV@www.ballcharts.com/gojayhawks
DTSTAMP:20120717T190828Z
DTSTART:20120615T160000
DTEND:20120615T180000
LOCATION:Castle Rock Tournament
SUMMARY:Jayhawks 7 @ Hamer (Longview) 2
END:VEVENT
BEGIN:VEVENT
UID:20120717T210828CEST-2806uaKUMD@www.ballcharts.com/gojayhawks
DTSTAMP:20120717T190828Z
DTSTART:20120616T000000
DTEND:20120616T020000
LOCATION:Castle Rock Tournament
SUMMARY:Jayhawks 1 @ Hoquiam 4
END:VEVENT
BEGIN:VEVENT
UID:20120717T210828CEST-2811MJOFuU@www.ballcharts.com/gojayhawks
DTSTAMP:20120717T190828Z
DTSTART:20120617T000000
DTEND:20120617T020000
LOCATION:Castle Rock Tournament
SUMMARY:Jayhawks 1 @ Competitive Athletics 2
END:VEVENT
BEGIN:VEVENT
UID:20120717T210828CEST-2816hodDEf@www.ballcharts.com/gojayhawks
DTSTAMP:20120717T190828Z
DTSTART:20120618T173000
DTEND:20120618T193000
LOCATION:Prairie High School
SUMMARY:Jayhawks 8 @ Prairie 0
END:VEVENT
BEGIN:VEVENT
UID:20120717T210828CEST-28214UtSnd@www.ballcharts.com/gojayhawks
DTSTAMP:20120717T190828Z
DTSTART:20120619T163000
DTEND:20120619T183000
LOCATION:Louis Bloch Park
SUMMARY:Jayhawks 12 @ Granite 2
END:VEVENT
BEGIN:VEVENT
UID:20120717T210828CEST-2827hXV5Im@www.ballcharts.com/gojayhawks
DTSTAMP:20120717T190828Z
DTSTART:20120619T173000
DTEND:20120619T193000
LOCATION:Louis Bloch Park
SUMMARY:Granite 2 @ Jayhawks 15
END:VEVENT
BEGIN:VEVENT
UID:20120717T210828CEST-2832mCRUj5@www.ballcharts.com/gojayhawks
DTSTAMP:20120717T190828Z
DTSTART:20120620T173000
DTEND:20120620T193000
LOCATION:La Center High School
SUMMARY:Jayhawks 7 @ Centerfield 0
END:VEVENT
BEGIN:VEVENT
UID:20120717T210828CEST-2837IvA1SC@www.ballcharts.com/gojayhawks
DTSTAMP:20120717T190828Z
DTSTART:20120621T170000
DTEND:20120621T190000
LOCATION:Western Oregon Tournament
SUMMARY:Jayhawks 3 @ Vancouver Redbirds 0
END:VEVENT
BEGIN:VEVENT
UID:20120717T210828CEST-2842a5UKOB@www.ballcharts.com/gojayhawks
DTSTAMP:20120717T190828Z
DTSTART:20120622T170000
DTEND:20120622T190000
LOCATION:Western Oregon Tournament
SUMMARY:Wilson Dirtbags 8 @ Jayhawks 2
END:VEVENT
BEGIN:VEVENT
UID:20120717T210828CEST-28470j9pLv@www.ballcharts.com/gojayhawks
DTSTAMP:20120717T190828Z
DTSTART:20120623T110000
DTEND:20120623T130000
LOCATION:Western Oregon Tournament
SUMMARY:Jayhawks 3 @ Canyon Crushers 9
END:VEVENT
BEGIN:VEVENT
UID:20120717T210828CEST-2853uRVSRx@www.ballcharts.com/gojayhawks
DTSTAMP:20120717T190828Z
DTSTART:20120624T110000
DTEND:20120624T130000
LOCATION:Western Oregon Tournament
SUMMARY:Jayhawks 10 @ East County Knights 2
END:VEVENT
BEGIN:VEVENT
UID:20120717T210828CEST-28582deFeS@www.ballcharts.com/gojayhawks
DTSTAMP:20120717T190828Z
DTSTART:20120625T173000
DTEND:20120625T193000
LOCATION:Clark College
SUMMARY:Jayhawks 9 @ Redbirds 4
END:VEVENT
BEGIN:VEVENT
UID:20120717T210828CEST-2863eRVaZs@www.ballcharts.com/gojayhawks
DTSTAMP:20120717T190828Z
DTSTART:20120626T173000
DTEND:20120626T193000
LOCATION:Fort Vancouver High School
SUMMARY:Redbirds 5 @ Jayhawks 4
END:VEVENT
BEGIN:VEVENT
UID:20120717T210828CEST-2868KsXAJ5@www.ballcharts.com/gojayhawks
DTSTAMP:20120717T190828Z
DTSTART:20120627T160000
DTEND:20120627T180000
LOCATION:Fort Vancouver High School
SUMMARY:Jayhawks 10 @ Aqua Sox 0
END:VEVENT
BEGIN:VEVENT
UID:20120717T210828CEST-2873JHLwUD@www.ballcharts.com/gojayhawks
DTSTAMP:20120717T190828Z
DTSTART:20120627T180000
DTEND:20120627T200000
LOCATION:Fort Vancouver High School
SUMMARY:Jayhawks 10 @ Aqua Sox 0
END:VEVENT
BEGIN:VEVENT
UID:20120717T210828CEST-28783R0jme@www.ballcharts.com/gojayhawks
DTSTAMP:20120717T190828Z
DTSTART:20120628T163000
DTEND:20120628T183000
LOCATION:La Center High School
SUMMARY:Centerfield 0 @ Jayhawks 1
END:VEVENT
BEGIN:VEVENT
UID:20120717T210828CEST-2884TeMpko@www.ballcharts.com/gojayhawks
DTSTAMP:20120717T190828Z
DTSTART:20120628T173000
DTEND:20120628T193000
LOCATION:La Center High School
SUMMARY:Jayhawks 10 @ Centerfield 4
END:VEVENT
BEGIN:VEVENT
UID:20120717T210828CEST-2889INsSSS@www.ballcharts.com/gojayhawks
DTSTAMP:20120717T190828Z
DTSTART:20120705T140000
DTEND:20120705T160000
LOCATION:State Tournament Camas\, WA
SUMMARY:Jayhawks 11 @ Burbank Diamondbacks 1
END:VEVENT
BEGIN:VEVENT
UID:20120717T210828CEST-2894MH5Vch@www.ballcharts.com/gojayhawks
DTSTAMP:20120717T190828Z
DTSTART:20120706T000000
DTEND:20120706T020000
LOCATION:State Tournament Camas\, WA
SUMMARY:Jayhawks 13 @ Hoquiam 2
END:VEVENT
BEGIN:VEVENT
UID:20120717T210828CEST-2899xRfkuW@www.ballcharts.com/gojayhawks
DTSTAMP:20120717T190828Z
DTSTART:20120707T000000
DTEND:20120707T020000
LOCATION:State Tournament Camas\, WA
SUMMARY:Jayhawks 8 @ Granite 4
END:VEVENT
BEGIN:VEVENT
UID:20120717T210828CEST-29041FiNHm@www.ballcharts.com/gojayhawks
DTSTAMP:20120717T190828Z
DTSTART:20120708T000000
DTEND:20120708T020000
LOCATION:State Tournament Camas\, WA
SUMMARY:Jayhawks 22 @ Granite 11
END:VEVENT
BEGIN:VEVENT
UID:20120717T210828CEST-2909RvgSFB@www.ballcharts.com/gojayhawks
DTSTAMP:20120717T190828Z
DTSTART:20120712T000000
DTEND:20120712T020000
LOCATION:Regional Tournament Kent\, WA
SUMMARY:Jayhawks 4 @ Wilder Baseball 15
END:VEVENT
BEGIN:VEVENT
UID:20120717T210828CEST-2914NkMfub@www.ballcharts.com/gojayhawks
DTSTAMP:20120717T190828Z
DTSTART:20120713T000000
DTEND:20120713T020000
LOCATION:Regional Tournament Kent\, WA
SUMMARY:Jayhawks 1 @ River Dogs 5
END:VEVENT
BEGIN:VEVENT
UID:20120717T210828CEST-2919vnXvFF@www.ballcharts.com/gojayhawks
DTSTAMP:20120717T190828Z
DTSTART:20120714T000000
DTEND:20120714T020000
LOCATION:Regional Tournament Kent\, WA
SUMMARY:Jayhawks 6 @ Casper Cardinals (WY) 3
END:VEVENT
BEGIN:VEVENT
UID:20120717T210828CEST-2925BxU8jX@www.ballcharts.com/gojayhawks
DTSTAMP:20120717T190828Z
DTSTART:20120715T000000
DTEND:20120715T020000
LOCATION:Regional Tournament Kent\, WA
SUMMARY:Jayhawks 3 @ Siskiyous Jaxx (CA) 8
END:VEVENT
END:VCALENDAR
