BEGIN:VCALENDAR
METHOD:PUBLISH
PRODID:-//www.ballcharts.com/caridurosdefajardoaa//NONSGML iCalcreator 2.0//
VERSION:2.0
BEGIN:VEVENT
DTEND:20090213T220000
DTSTAMP:20090613T161239Z
DTSTART:20090213T200000
LOCATION:Fajardo
SUMMARY:Juncos 6 @ Fajardo 11
UID:20090613T091239PDT-vU3rmj5hRB@www.ballcharts.com/caridurosdefajardoaa
END:VEVENT
BEGIN:VEVENT
DTEND:20090215T170000
DTSTAMP:20090613T161239Z
DTSTART:20090215T150000
LOCATION:Rio Grande
SUMMARY:Fajardo 1 @ Rio Grande 3
UID:20090613T091239PDT-MENOAVRUzh@www.ballcharts.com/caridurosdefajardoaa
END:VEVENT
BEGIN:VEVENT
DTEND:20090220T220000
DTSTAMP:20090613T161239Z
DTSTART:20090220T200000
LOCATION:Fajardo
SUMMARY:Maunabo 2 @ Fajardo 4
UID:20090613T091239PDT-U89hUgVrwV@www.ballcharts.com/caridurosdefajardoaa
END:VEVENT
BEGIN:VEVENT
DTEND:20090221T213000
DTSTAMP:20090613T161239Z
DTSTART:20090221T193000
LOCATION:San Lorenzo
SUMMARY:Fajardo 5 @ San Lorenzo 4
UID:20090613T091239PDT-aUg2t8eNc1@www.ballcharts.com/caridurosdefajardoaa
END:VEVENT
BEGIN:VEVENT
DTEND:20090227T220000
DTSTAMP:20090613T161239Z
DTSTART:20090227T200000
LOCATION:Fajardo
SUMMARY:San Lorenzo 3 @ Fajardo 10
UID:20090613T091239PDT-llwua5v4Lc@www.ballcharts.com/caridurosdefajardoaa
END:VEVENT
BEGIN:VEVENT
DTEND:20090228T213000
DTSTAMP:20090613T161239Z
DTSTART:20090228T193000
LOCATION:Maunabo
SUMMARY:Fajardo 8 @ Maunabo 6
UID:20090613T091239PDT-pmGi1U3adT@www.ballcharts.com/caridurosdefajardoaa
END:VEVENT
BEGIN:VEVENT
DTEND:20090313T220000
DTSTAMP:20090613T161239Z
DTSTART:20090313T200000
LOCATION:Fajardo
SUMMARY:Rio Grande 11 @ Fajardo 1
UID:20090613T091239PDT-3CH5ouiSow@www.ballcharts.com/caridurosdefajardoaa
END:VEVENT
BEGIN:VEVENT
DTEND:20090314T213000
DTSTAMP:20090613T161239Z
DTSTART:20090314T193000
LOCATION:Las Piedras
SUMMARY:Fajardo 2 @ Las Piedras 0
UID:20090613T091239PDT-MbhzKvOHiL@www.ballcharts.com/caridurosdefajardoaa
END:VEVENT
BEGIN:VEVENT
DTEND:20090320T220000
DTSTAMP:20090613T161239Z
DTSTART:20090320T200000
LOCATION:Fajardo
SUMMARY:Loiza 6 @ Fajardo 7
UID:20090613T091239PDT-tafEzt0kke@www.ballcharts.com/caridurosdefajardoaa
END:VEVENT
BEGIN:VEVENT
DTEND:20090322T160000
DTSTAMP:20090613T161239Z
DTSTART:20090322T140000
LOCATION:Loiza
SUMMARY:Fajardo 4 @ Loiza 2
UID:20090613T091239PDT-fVxuGFHVJC@www.ballcharts.com/caridurosdefajardoaa
END:VEVENT
BEGIN:VEVENT
DTEND:20090327T220000
DTSTAMP:20090613T161239Z
DTSTART:20090327T200000
LOCATION:Fajardo
SUMMARY:Carolina 2 @ Fajardo 4
UID:20090613T091239PDT-r9Tv9E1hpX@www.ballcharts.com/caridurosdefajardoaa
END:VEVENT
BEGIN:VEVENT
DTEND:20090328T213000
DTSTAMP:20090613T161239Z
DTSTART:20090328T193000
LOCATION:Patillas
SUMMARY:Fajardo 9 @ Patillas 7
UID:20090613T091239PDT-jvZ0JGDOkB@www.ballcharts.com/caridurosdefajardoaa
END:VEVENT
BEGIN:VEVENT
DTEND:20090403T220000
DTSTAMP:20090613T161239Z
DTSTART:20090403T200000
LOCATION:Fajardo
SUMMARY:Yabucoa 8 @ Fajardo 9
UID:20090613T091239PDT-h2c7vgulVV@www.ballcharts.com/caridurosdefajardoaa
END:VEVENT
BEGIN:VEVENT
DTEND:20090404T213000
DTSTAMP:20090613T161239Z
DTSTART:20090404T193000
LOCATION:Yabucoa
SUMMARY:Fajardo 1 @ Yabucoa 0
UID:20090613T091239PDT-PUCNjt3HOm@www.ballcharts.com/caridurosdefajardoaa
END:VEVENT
BEGIN:VEVENT
DTEND:20090417T213000
DTSTAMP:20090613T161239Z
DTSTART:20090417T193000
LOCATION:Fajardo
SUMMARY:Gurabo 8 @ Fajardo 13
UID:20090613T091239PDT-U73uFas98z@www.ballcharts.com/caridurosdefajardoaa
END:VEVENT
BEGIN:VEVENT
DTEND:20090418T220000
DTSTAMP:20090613T161239Z
DTSTART:20090418T200000
LOCATION:Gurabo
SUMMARY:Fajardo 12 @ Gurabo 1
UID:20090613T091239PDT-FPV5tOhNFK@www.ballcharts.com/caridurosdefajardoaa
END:VEVENT
BEGIN:VEVENT
DTEND:20090424T210000
DTSTAMP:20090613T161239Z
DTSTART:20090424T190000
LOCATION:Juncos
SUMMARY:Fajardo 3 @ Juncos 1
UID:20090613T091239PDT-Sn2xGEmJac@www.ballcharts.com/caridurosdefajardoaa
END:VEVENT
BEGIN:VEVENT
DTEND:20090425T220000
DTSTAMP:20090613T161239Z
DTSTART:20090425T200000
LOCATION:Fajardo
SUMMARY:Las Piedras 8 @ Fajardo 4
UID:20090613T091239PDT-i4aotjWRhX@www.ballcharts.com/caridurosdefajardoaa
END:VEVENT
BEGIN:VEVENT
DTEND:20090501T213000
DTSTAMP:20090613T161239Z
DTSTART:20090501T193000
LOCATION:Fajardo
SUMMARY:Carolina @ Fajardo
UID:20090613T091239PDT-Vx64exV1mZ@www.ballcharts.com/caridurosdefajardoaa
END:VEVENT
BEGIN:VEVENT
DTEND:20090502T220000
DTSTAMP:20090613T161239Z
DTSTART:20090502T200000
LOCATION:Fajardo
SUMMARY:Patillas 2 @ Fajardo 1
UID:20090613T091239PDT-GeMxjOuUrK@www.ballcharts.com/caridurosdefajardoaa
END:VEVENT
BEGIN:VEVENT
DTEND:20090508T220000
DTSTAMP:20090613T161239Z
DTSTART:20090508T200000
LOCATION:Fajardo
SUMMARY:Humacao @ Fajardo
UID:20090613T091239PDT-kudhBMJcT6@www.ballcharts.com/caridurosdefajardoaa
END:VEVENT
BEGIN:VEVENT
DTEND:20090509T213000
DTSTAMP:20090613T161239Z
DTSTART:20090509T193000
LOCATION:Humacao
SUMMARY:Fajardo @ Humacao
UID:20090613T091239PDT-XVLS2cisrz@www.ballcharts.com/caridurosdefajardoaa
END:VEVENT
BEGIN:VEVENT
DTEND:20090531T170000
DTSTAMP:20090613T161239Z
DTSTART:20090531T150000
LOCATION:Fajardo
SUMMARY:Patillas  1 @ Fajardo  10
UID:20090613T091239PDT-ImwvvtrlKc@www.ballcharts.com/caridurosdefajardoaa
END:VEVENT
BEGIN:VEVENT
DTEND:20090607T170000
DTSTAMP:20090613T161239Z
DTSTART:20090607T150000
LOCATION:Angelita Lind
SUMMARY:Fajardo  8 @ Patillas  2
UID:20090613T091239PDT-aZf9IjMoXD@www.ballcharts.com/caridurosdefajardoaa
END:VEVENT
BEGIN:VEVENT
DTEND:20090612T210000
DTSTAMP:20090613T161239Z
DTSTART:20090612T190000
LOCATION:Angelita Lind
SUMMARY:Fajardo  @ Patillas
UID:20090613T091239PDT-P8jEuCVFgE@www.ballcharts.com/caridurosdefajardoaa
END:VEVENT
BEGIN:VEVENT
DTEND:20090612T220000
DTSTAMP:20090613T161239Z
DTSTART:20090612T200000
LOCATION:C. Perez Alberto
SUMMARY:Patillas 3 @ Fajardo 6
UID:20090613T091239PDT-1nVMb94gpb@www.ballcharts.com/caridurosdefajardoaa
END:VEVENT
END:VCALENDAR
