BEGIN:VCALENDAR
METHOD:PUBLISH
PRODID:-//www.ballcharts.com/supercariduros25//NONSGML iCalcreator 2.0//
VERSION:2.0
BEGIN:VEVENT
DESCRIPTION:cataņo vs Fajardo (inaug.)
DTEND:20071027T220000
DTSTAMP:20091113T012431Z
DTSTART:20071027T200000
LOCATION:Coliseo Tomas Dones
UID:20091113T172431PST-TOAFlSoCSk@www.ballcharts.com/supercariduros25
END:VEVENT
BEGIN:VEVENT
DESCRIPTION:Fajardo vs Mayaguez
DTEND:20071031T220000
DTSTAMP:20091113T012431Z
DTSTART:20071031T200000
LOCATION:Palacio R/D
UID:20091113T172431PST-P9VgvXmLxf@www.ballcharts.com/supercariduros25
END:VEVENT
BEGIN:VEVENT
DESCRIPTION:Fajardo vs Guayama
DTEND:20071102T220000
DTSTAMP:20091113T012431Z
DTSTART:20071102T200000
LOCATION:Coliseo Dr. Roque Nido
UID:20091113T172431PST-rdB00mdjvF@www.ballcharts.com/supercariduros25
END:VEVENT
BEGIN:VEVENT
DESCRIPTION:Fajardo vs Hormiguero
DTEND:20071107T220000
DTSTAMP:20091113T012431Z
DTSTART:20071107T200000
LOCATION:Cancha Wilfredo Toro
UID:20091113T172431PST-o3NvvT17HN@www.ballcharts.com/supercariduros25
END:VEVENT
BEGIN:VEVENT
DESCRIPTION:Barceloneta vs Fajardo
DTEND:20071109T220000
DTSTAMP:20091113T012431Z
DTSTART:20071109T200000
LOCATION:Coliseo Tomas Dones
UID:20091113T172431PST-0Z5kp9wuxx@www.ballcharts.com/supercariduros25
END:VEVENT
BEGIN:VEVENT
DESCRIPTION:JUEGO DE ESTRELLA
DTEND:20071111T200000
DTSTAMP:20091113T012431Z
DTSTART:20071111T180000
LOCATION:??????????
UID:20091113T172431PST-UU83mp9wP6@www.ballcharts.com/supercariduros25
END:VEVENT
BEGIN:VEVENT
DESCRIPTION:Fajardo vs Cataņo
DTEND:20071116T220000
DTSTAMP:20091113T012431Z
DTSTART:20071116T200000
LOCATION:Cancha Cosme Beitia
UID:20091113T172431PST-BWHmOtDOh8@www.ballcharts.com/supercariduros25
END:VEVENT
BEGIN:VEVENT
DESCRIPTION:Mayaguez vs Fajardo
DTEND:20071118T200000
DTSTAMP:20091113T012431Z
DTSTART:20071118T180000
LOCATION:Coliseo Tomas Dones
UID:20091113T172431PST-LUVWoRICBk@www.ballcharts.com/supercariduros25
END:VEVENT
BEGIN:VEVENT
DESCRIPTION:Guayama vs Fajardo
DTEND:20071120T220000
DTSTAMP:20091113T012431Z
DTSTART:20071120T200000
LOCATION:Coliseo Tomas Dones
UID:20091113T172431PST-fm1Kuv7Ot1@www.ballcharts.com/supercariduros25
END:VEVENT
BEGIN:VEVENT
DESCRIPTION:Hormiguero vs Fajardo
DTEND:20071123T220000
DTSTAMP:20091113T012431Z
DTSTART:20071123T200000
LOCATION:Coliseo Tomas Dones
UID:20091113T172431PST-4rB46VUTRV@www.ballcharts.com/supercariduros25
END:VEVENT
BEGIN:VEVENT
DESCRIPTION:Fajardo vs Barceloneta
DTEND:20071125T200000
DTSTAMP:20091113T012431Z
DTSTART:20071125T180000
LOCATION:Sixto Escobar
UID:20091113T172431PST-VctselVKze@www.ballcharts.com/supercariduros25
END:VEVENT
BEGIN:VEVENT
DTEND:20091016T220000
DTSTAMP:20091113T012431Z
DTSTART:20091016T200000
LOCATION:Cancha Juan Sanchez
SUMMARY:Fajardo 91 @ Moca 98
UID:20091113T172431PST-2JfH1c24GV@www.ballcharts.com/supercariduros25
END:VEVENT
BEGIN:VEVENT
DTEND:20091024T220000
DTSTAMP:20091113T012431Z
DTSTART:20091024T200000
LOCATION:All Star\, Aguada
SUMMARY:Fajardo 88 @ Aguada 90
UID:20091113T172431PST-uJCOsp1i2S@www.ballcharts.com/supercariduros25
END:VEVENT
BEGIN:VEVENT
DTEND:20091027T130000
DTSTAMP:20091113T012431Z
DTSTART:20091027T110000
LOCATION:Coliseo Tomas Dones
SUMMARY:Hatillo 90 @ Fajardo 82
UID:20091113T172431PST-rDIf2vtTL9@www.ballcharts.com/supercariduros25
END:VEVENT
BEGIN:VEVENT
DTEND:20091030T220000
DTSTAMP:20091113T012431Z
DTSTART:20091030T200000
LOCATION:Coliseo Tomas Dones
SUMMARY:Aguas Buenas 80 @ Fajardo 93
UID:20091113T172431PST-0Cb1LkKRal@www.ballcharts.com/supercariduros25
END:VEVENT
BEGIN:VEVENT
DTEND:20091101T200000
DTSTAMP:20091113T012431Z
DTSTART:20091101T180000
LOCATION:Coliseo Tomas Dones
SUMMARY:Peņuelas 77 @ Fajardo 93
UID:20091113T172431PST-N7m8jHAxXD@www.ballcharts.com/supercariduros25
END:VEVENT
BEGIN:VEVENT
DTEND:20091107T010000
DTSTAMP:20091113T012431Z
DTSTART:20091106T230000
LOCATION:Juana Diaz
SUMMARY:Fajardo 80 @ Juana Diaz  96
UID:20091113T172431PST-lnc2ukIHTi@www.ballcharts.com/supercariduros25
END:VEVENT
BEGIN:VEVENT
DTEND:20091107T220000
DTSTAMP:20091113T012431Z
DTSTART:20091107T200000
LOCATION:Coliseo Tomas Dones
SUMMARY:Moca 99 @ Fajardo 85
UID:20091113T172431PST-udR8L1D4pI@www.ballcharts.com/supercariduros25
END:VEVENT
BEGIN:VEVENT
DTEND:20091110T220000
DTSTAMP:20091113T012431Z
DTSTART:20091110T200000
LOCATION:Coliseo Tomas Dones
SUMMARY:Dorado 81 @ Fajardo 92
UID:20091113T172431PST-KIJdA1maWD@www.ballcharts.com/supercariduros25
END:VEVENT
BEGIN:VEVENT
DTEND:20091112T220000
DTSTAMP:20091113T012431Z
DTSTART:20091112T200000
LOCATION:Hatillo
SUMMARY:Fajardo 94 @ Hatillo 115
UID:20091113T172431PST-dKwMMoSpi1@www.ballcharts.com/supercariduros25
END:VEVENT
BEGIN:VEVENT
DTEND:20091118T220000
DTSTAMP:20091113T012431Z
DTSTART:20091118T200000
LOCATION:Coliseo Tomas Dones
SUMMARY:Aguada @ Fajardo
UID:20091113T172431PST-8DzhUHpV5H@www.ballcharts.com/supercariduros25
END:VEVENT
BEGIN:VEVENT
DTEND:20091120T220000
DTSTAMP:20091113T012431Z
DTSTART:20091120T200000
LOCATION:Angel Hernandez
SUMMARY:Fajardo @ Dorado
UID:20091113T172431PST-iffVBwTpgu@www.ballcharts.com/supercariduros25
END:VEVENT
BEGIN:VEVENT
DTEND:20091121T220000
DTSTAMP:20091113T012431Z
DTSTART:20091121T200000
LOCATION:Cancha Juan Sanchez
SUMMARY:Juego de Estrellas @ Moca
UID:20091113T172431PST-9l9tTBm1U5@www.ballcharts.com/supercariduros25
END:VEVENT
BEGIN:VEVENT
DTEND:20091125T220000
DTSTAMP:20091113T012431Z
DTSTART:20091125T200000
LOCATION:Coliseo Tomas Dones
SUMMARY:Juana Diaz  @ Fajardo
UID:20091113T172431PST-IxwszKAufw@www.ballcharts.com/supercariduros25
END:VEVENT
BEGIN:VEVENT
DTEND:20091127T220000
DTSTAMP:20091113T012431Z
DTSTART:20091127T200000
LOCATION:Betty Segarra
SUMMARY:Fajardo @ Peņuelas
UID:20091113T172431PST-3gWLWBDK6H@www.ballcharts.com/supercariduros25
END:VEVENT
BEGIN:VEVENT
DTEND:20091201T220000
DTSTAMP:20091113T012431Z
DTSTART:20091201T200000
LOCATION:San Juan
SUMMARY:Fajardo @ San Juan
UID:20091113T172431PST-Mrz5uDZJKS@www.ballcharts.com/supercariduros25
END:VEVENT
END:VCALENDAR
