BEGIN:VCALENDAR
VERSION:2.0
PRODID:-//www.ballcharts.com/crhsgirlshoops//NONSGML kigkonsult.se iCalcrea
 tor 2.16.12//
METHOD:PUBLISH
X-WR-TIMEZONE:US/Central
X-WR-CALNAME:CINCO RANCH LADY COUGARS
BEGIN:VTIMEZONE
TZID:US/Central
X-LIC-LOCATION:US/Central
END:VTIMEZONE
BEGIN:VEVENT
UID:20140206T055858PST-27414JttvE@www.ballcharts.com/crhsgirlshoops
DTSTAMP:20140206T135858Z
DESCRIPTION:Leading Scorers:\nCRHS--Thomas 24\, Enget 11
DTSTART:20130212T190000
DTEND:20130212T210000
LOCATION:CRHS
SUMMARY:Madison (11-20) 42 @ Cinco Ranch (20-14)  61
END:VEVENT
BEGIN:VEVENT
UID:20140206T055858PST-2757SCIGL5@www.ballcharts.com/crhsgirlshoops
DTSTAMP:20140206T135858Z
DESCRIPTION:Leading Scorers:\nCRHS--McClure 12\, Richard 10
DTSTART:20130215T193000
DTEND:20130215T213000
LOCATION:THS
SUMMARY:Cypress Creek (26-10) 43 @ Cinco Ranch (20-15) 39
END:VEVENT
BEGIN:VEVENT
UID:20140206T055858PST-2772LAIfCR@www.ballcharts.com/crhsgirlshoops
DTSTAMP:20140206T135858Z
DTSTART:20131105T190000
DTEND:20131105T210000
LOCATION:Ft. Bend Bush
SUMMARY:Cinco Ranch  21 @ Bush  56
END:VEVENT
BEGIN:VEVENT
UID:20140206T055858PST-2787miiSl8@www.ballcharts.com/crhsgirlshoops
DTSTAMP:20140206T135858Z
DTSTART:20131108T190000
DTEND:20131108T210000
LOCATION:Cinco Ranch
SUMMARY:Hastings  42 @ Cinco Ranch  57
END:VEVENT
BEGIN:VEVENT
UID:20140206T055858PST-2802iDrCIz@www.ballcharts.com/crhsgirlshoops
DTSTAMP:20140206T135858Z
DTSTART:20131112T190000
DTEND:20131112T210000
LOCATION:Cy Fair
SUMMARY:Cinco Ranch  24 @ Cy Fair 56
END:VEVENT
BEGIN:VEVENT
UID:20140206T055858PST-2817PVj0UJ@www.ballcharts.com/crhsgirlshoops
DTSTAMP:20140206T135858Z
DTSTART:20131115T190000
DTEND:20131115T210000
LOCATION:Pearland
SUMMARY:Cinco Ranch  27 @ Pearland  50
END:VEVENT
BEGIN:VEVENT
UID:20140206T055858PST-2832Bmvuiz@www.ballcharts.com/crhsgirlshoops
DTSTAMP:20140206T135858Z
DTSTART:20131118T190000
DTEND:20131118T210000
LOCATION:Westside
SUMMARY:Cinco Ranch  2 @ Westside   0
END:VEVENT
BEGIN:VEVENT
UID:20140206T055858PST-2847ZcrrDg@www.ballcharts.com/crhsgirlshoops
DTSTAMP:20140206T135858Z
DTSTART:20131121T160000
DTEND:20131121T180000
LOCATION:Aldine Tournament
SUMMARY:Ft. Bend Marshall 20 @ Cinco Ranch 74
END:VEVENT
BEGIN:VEVENT
UID:20140206T055858PST-28639PFmvH@www.ballcharts.com/crhsgirlshoops
DTSTAMP:20140206T135858Z
DTSTART:20131121T190000
DTEND:20131121T210000
LOCATION:Aldine Tournament
SUMMARY:Cinco Ranch 47 @ Aldine MacArthur 31
END:VEVENT
BEGIN:VEVENT
UID:20140206T055858PST-2877uEJ1eA@www.ballcharts.com/crhsgirlshoops
DTSTAMP:20140206T135858Z
DTSTART:20131122T160000
DTEND:20131122T180000
LOCATION:Aldine Tournament
SUMMARY:Cinco Ranch 36 @ Eisenhower 55
END:VEVENT
BEGIN:VEVENT
UID:20140206T055858PST-28921L5vDi@www.ballcharts.com/crhsgirlshoops
DTSTAMP:20140206T135858Z
DTSTART:20131123T000000
DTEND:20131123T020000
LOCATION:Aldine Tournament
SUMMARY:Cinco Ranch 68 @ Aldine Nimitz 43
END:VEVENT
BEGIN:VEVENT
UID:20140206T055858PST-2907D0bsVd@www.ballcharts.com/crhsgirlshoops
DTSTAMP:20140206T135858Z
DTSTART:20131123T180000
DTEND:20131123T200000
LOCATION:Aldine Tournament
SUMMARY:Cinco Ranch 46 @ Summer Creek 54
END:VEVENT
BEGIN:VEVENT
UID:20140206T055858PST-29232mi1ao@www.ballcharts.com/crhsgirlshoops
DTSTAMP:20140206T135858Z
DTSTART:20131125T190000
DTEND:20131125T210000
LOCATION:Cinco Ranch
SUMMARY:A&M Consolidated 50 @ Cinco Ranch  51
END:VEVENT
BEGIN:VEVENT
UID:20140206T055858PST-2938UJohV8@www.ballcharts.com/crhsgirlshoops
DTSTAMP:20140206T135858Z
DTSTART:20131126T190000
DTEND:20131126T210000
LOCATION:Cinco Ranch
SUMMARY:Clear Springs 68 @ Cinco Ranch  51
END:VEVENT
BEGIN:VEVENT
UID:20140206T055858PST-2953JrDDnj@www.ballcharts.com/crhsgirlshoops
DTSTAMP:20140206T135858Z
DTSTART:20131203T190000
DTEND:20131203T210000
LOCATION:Cinco Ranch
SUMMARY:Memorial   28 @ Cinco Ranch  55
END:VEVENT
BEGIN:VEVENT
UID:20140206T055858PST-2968zgln5j@www.ballcharts.com/crhsgirlshoops
DTSTAMP:20140206T135858Z
DTSTART:20131205T153000
DTEND:20131205T173000
LOCATION:KISD Nike Classic
SUMMARY:Jersey Village 64 @ Cinco Ranch 63
END:VEVENT
BEGIN:VEVENT
UID:20140206T055858PST-2983AsWn5g@www.ballcharts.com/crhsgirlshoops
DTSTAMP:20140206T135858Z
DTSTART:20131206T000000
DTEND:20131206T020000
LOCATION:KISD Nike Classic
SUMMARY:Epsicopal 36 @ Cinco Ranch 65
END:VEVENT
BEGIN:VEVENT
UID:20140206T055858PST-2998EDFPE7@www.ballcharts.com/crhsgirlshoops
DTSTAMP:20140206T135858Z
DTSTART:20131206T000000
DTEND:20131206T020000
LOCATION:KISD Nike Classic
SUMMARY:Aldine Davis 50 @ Cinco Ranch 62
END:VEVENT
BEGIN:VEVENT
UID:20140206T055858PST-3013AiUGIz@www.ballcharts.com/crhsgirlshoops
DTSTAMP:20140206T135858Z
DTSTART:20131207T000000
DTEND:20131207T020000
LOCATION:KISD Nike Classic
SUMMARY:Cinco Ranch 38 @ Cy Creek 55
END:VEVENT
BEGIN:VEVENT
UID:20140206T055858PST-3028coUn5b@www.ballcharts.com/crhsgirlshoops
DTSTAMP:20140206T135858Z
DTSTART:20131210T190000
DTEND:20131210T210000
LOCATION:Morton Ranch
SUMMARY:Cinco Ranch  67 @ Morton Ranch   19
END:VEVENT
BEGIN:VEVENT
UID:20140206T055858PST-3044tRhK2A@www.ballcharts.com/crhsgirlshoops
DTSTAMP:20140206T135858Z
DTSTART:20131213T190000
DTEND:20131213T210000
LOCATION:Cinco Ranch
SUMMARY:Mayde Creek   36 @ Cinco Ranch  55
END:VEVENT
BEGIN:VEVENT
UID:20140206T055858PST-3059IzAgBB@www.ballcharts.com/crhsgirlshoops
DTSTAMP:20140206T135858Z
DTSTART:20131220T190000
DTEND:20131220T210000
LOCATION:Taylor
SUMMARY:Cinco Ranch  36 @ Taylor   55
END:VEVENT
BEGIN:VEVENT
UID:20140206T055858PST-3074fjrpvW@www.ballcharts.com/crhsgirlshoops
DTSTAMP:20140206T135858Z
DTSTART:20131227T120000
DTEND:20131227T140000
LOCATION:Barbers Hill Tournament
SUMMARY:Cinco Ranch 51 @ Clear Creek 39
END:VEVENT
BEGIN:VEVENT
UID:20140206T055858PST-3089W0uvld@www.ballcharts.com/crhsgirlshoops
DTSTAMP:20140206T135858Z
DTSTART:20131227T163000
DTEND:20131227T183000
LOCATION:Barbers Hill Tournament
SUMMARY:Cinco Ranch 38 @ Barbers Hill 62
END:VEVENT
BEGIN:VEVENT
UID:20140206T055858PST-3104K88MK3@www.ballcharts.com/crhsgirlshoops
DTSTAMP:20140206T135858Z
DTSTART:20131228T103000
DTEND:20131228T123000
LOCATION:Barbers Hill Tournament
SUMMARY:Cinco Ranch 57 @ Beaumont Westbrook 35
END:VEVENT
BEGIN:VEVENT
UID:20140206T055858PST-3119kWosVo@www.ballcharts.com/crhsgirlshoops
DTSTAMP:20140206T135858Z
DTSTART:20131228T150000
DTEND:20131228T170000
LOCATION:Barbers Hill Tournament
SUMMARY:Cinco Ranch 50 @ Port Arthur Memorial 77
END:VEVENT
BEGIN:VEVENT
UID:20140206T055858PST-3134pTVJO8@www.ballcharts.com/crhsgirlshoops
DTSTAMP:20140206T135858Z
DTSTART:20140103T190000
DTEND:20140103T210000
LOCATION:Cinco Ranch
SUMMARY:Seven Lakes   67 @ Cinco Ranch  48
END:VEVENT
BEGIN:VEVENT
UID:20140206T055858PST-3149jckV8F@www.ballcharts.com/crhsgirlshoops
DTSTAMP:20140206T135858Z
DTSTART:20140107T190000
DTEND:20140107T210000
LOCATION:Katy
SUMMARY:Cinco Ranch  65 @ Katy    48
END:VEVENT
BEGIN:VEVENT
UID:20140206T055858PST-31643vRZd5@www.ballcharts.com/crhsgirlshoops
DTSTAMP:20140206T135858Z
DTSTART:20140114T190000
DTEND:20140114T210000
LOCATION:Memorial
SUMMARY:Cinco Ranch  61 @ Memorial   65
END:VEVENT
BEGIN:VEVENT
UID:20140206T055858PST-3179vzTvTf@www.ballcharts.com/crhsgirlshoops
DTSTAMP:20140206T135858Z
DTSTART:20140117T190000
DTEND:20140117T210000
LOCATION:Cinco Ranch
SUMMARY:Morton Ranch   28 @ Cinco Ranch  53
END:VEVENT
BEGIN:VEVENT
UID:20140206T055858PST-3194umB562@www.ballcharts.com/crhsgirlshoops
DTSTAMP:20140206T135858Z
DTSTART:20140121T190000
DTEND:20140121T210000
LOCATION:Mayde Creek
SUMMARY:Cinco Ranch  54 @ Mayde Creek   29
END:VEVENT
BEGIN:VEVENT
UID:20140206T055858PST-3209fXTcZP@www.ballcharts.com/crhsgirlshoops
DTSTAMP:20140206T135858Z
DTSTART:20140124T190000
DTEND:20140124T210000
LOCATION:Cinco Ranch
SUMMARY:Taylor   58 @ Cinco Ranch  55
END:VEVENT
BEGIN:VEVENT
UID:20140206T055858PST-3224UUHVw7@www.ballcharts.com/crhsgirlshoops
DTSTAMP:20140206T135858Z
DTSTART:20140128T190000
DTEND:20140128T210000
LOCATION:Seven Lakes
SUMMARY:Cinco Ranch  35 @ Seven Lakes   58
END:VEVENT
BEGIN:VEVENT
UID:20140206T055858PST-3239EZxnfv@www.ballcharts.com/crhsgirlshoops
DTSTAMP:20140206T135858Z
DTSTART:20140131T190000
DTEND:20140131T210000
LOCATION:Cinco Ranch
SUMMARY:Katy    57 @ Cinco Ranch  68
END:VEVENT
END:VCALENDAR
