BEGIN:VCALENDAR
METHOD:PUBLISH
PRODID:-//www.ballcharts.com/cocoterosdeloiza//NONSGML iCalcreator 2.0//
VERSION:2.0
BEGIN:VEVENT
DTEND:20100220T213000
DTSTAMP:20100203T134458Z
DTSTART:20100220T193000
LOCATION:Estadio Miguel Fuentes Pinet
SUMMARY:Fajardo @ Loiza
UID:20100203T054458PST-9viT8VivC9@www.ballcharts.com/cocoterosdeloiza
END:VEVENT
END:VCALENDAR
